BEGIN:VCALENDAR
VERSION:2.0
PRODID:-//Bangladesh Cyber Institute - ECPv6.15.13//NONSGML v1.0//EN
CALSCALE:GREGORIAN
METHOD:PUBLISH
X-ORIGINAL-URL:https://cyberinstitutebd.com
X-WR-CALDESC:Events for Bangladesh Cyber Institute
REFRESH-INTERVAL;VALUE=DURATION:PT1H
X-Robots-Tag:noindex
X-PUBLISHED-TTL:PT1H
BEGIN:VTIMEZONE
TZID:UTC
BEGIN:STANDARD
TZOFFSETFROM:+0000
TZOFFSETTO:+0000
TZNAME:UTC
DTSTART:20250101T000000
END:STANDARD
END:VTIMEZONE
BEGIN:VEVENT
DTSTART;TZID=UTC:20260117T210000
DTEND;TZID=UTC:20260117T223000
DTSTAMP:20260420T061715
CREATED:20260107T052414Z
LAST-MODIFIED:20260107T054127Z
UID:17112-1768683600-1768689000@cyberinstitutebd.com
SUMMARY:Build Your Career in Cyber Security & Ethical Hacking (Online Live Workshop)
DESCRIPTION:শূন্য থেকে জব-রেডি Cyber Security প্রফেশনাল হওয়ার গাইড\nRegistration for Workshop https://cyberinstitutebd.com/join-our-workshop/ \n📌 ওয়ার্কশপ ওভারভিউ \nএই Online Live Workshop টি বিশেষভাবে ডিজাইন করা হয়েছে যাদের লক্ষ্য Cyber Security & Ethical Hacking ক্যারিয়ার গড়া।এই সেশনে আপনি জানতে পারবেন—হ্যাকাররা কীভাবে চিন্তা করে\, বাস্তবে সাইবার অ্যাটাক কীভাবে হয় এবং একজন Cyber Security প্রফেশনাল কীভাবে সেগুলো ডিফেন্ড করে। \n👉 কোনো পূর্ব অভিজ্ঞতা প্রয়োজন নেই। একদম বিগিনারদের জন্যও এটি উপযোগী। \n\n👥 কাদের জন্য এই ওয়ার্কশপ? \n\nকলেজ ও বিশ্ববিদ্যালয়ের শিক্ষার্থী\nIT ও Non-IT ব্যাকগ্রাউন্ডের শিক্ষার্থীরা\nফ্রেশ গ্র্যাজুয়েট\nচাকরি প্রত্যাশী\nক্যারিয়ার চেঞ্জ করতে আগ্রহী\nEthical Hacking ও Cyber Security নিয়ে আগ্রহী যে কেউ\n\n\n🛠 আপনি কী কী শিখবেন \n\nCyber Security & Ethical Hacking ক্যারিয়ার রোডম্যাপ\nবাস্তব জীবনের সাইবার অ্যাটাক ও ডিফেন্স কনসেপ্ট\nSOC Analyst\, Penetration Tester ও Blue Team রোল\nইন্ডাস্ট্রিতে ব্যবহৃত টুলস ও টেকনোলজি\nলোকাল ও ইন্টারন্যাশনাল জবের জন্য প্রয়োজনীয় স্কিল\nসার্টিফিকেশন গাইডলাইন\nশূন্য থেকে শুরু করার সঠিক পথ\n\n\n🚀 ওয়ার্কশপের বিশেষ সুবিধা \n\nলাইভ ও ইন্টারঅ্যাকটিভ সেশন\nইন্ডাস্ট্রি ফোকাসড ক্যারিয়ার গাইডলাইন\nলাইভ Q&A সেশন\nপ্র্যাক্টিক্যাল উদাহরণ ও ডেমো\nঅংশগ্রহণ সনদপত্র (প্রযোজ্য হলে)
URL:https://cyberinstitutebd.com/event/build-your-career-in-cyber-security-ethical-hacking-online-live-workshop/
LOCATION:Zoom
ATTACH;FMTTYPE=image/jpeg:https://cyberinstitutebd.com/wp-content/uploads/2026/01/images.jpg
ORGANIZER;CN="Bangladesh Cyber Institute":MAILTO:workshop@cyberinstitutebd.com
END:VEVENT
BEGIN:VEVENT
DTSTART;TZID=UTC:20260112T080000
DTEND;TZID=UTC:20260112T170000
DTSTAMP:20260420T061715
CREATED:20260111T100045Z
LAST-MODIFIED:20260112T104557Z
UID:17126-1768204800-1768237200@cyberinstitutebd.com
SUMMARY:SOC Analyst Online Live Workshop
DESCRIPTION:🔐 SOC Analyst Online Live Workshop\nRegistration for SOC Workshop: https://cyberinstitutebd.com/join-our-workshop/ \nBeginner to Job-Ready (Online Live)\nবর্তমান ডিজিটাল যুগে Cyber Attack\, Data Breach ও Hacking Incident প্রতিদিন বাড়ছে। এসব হুমকি মোকাবিলার জন্য প্রতিটি প্রতিষ্ঠানেই প্রয়োজন দক্ষ SOC (Security Operations Center) Analyst।এই Online Live Workshop আপনাকে একদম শূন্য থেকে SOC Analyst হিসেবে কাজ করার বাস্তব ধারণা ও স্কিল দেবে। \n\n🎯 Workshop-এর উদ্দেশ্য\n\nSOC Analyst রোল বাস্তবে কী কাজ করে তা বোঝানো\nReal-life Cyber Attack কিভাবে Detect ও Respond করা হয় তা শেখানো\nIndustry Standard Tools দিয়ে Hands-on অভিজ্ঞতা দেওয়া\nCyber Security Career শুরু করার সঠিক Roadmap দেখানো\n\n\n👨‍🎓 কারা অংশগ্রহণ করতে পারবে?\n\nIT / Non-IT স্টুডেন্ট\nComputer Science / CSE / EEE / ICT শিক্ষার্থী\nFresher IT Professional\nNetwork\, System বা Support Engineer\nযারা Cyber Security বা SOC Analyst Career শুরু করতে চায়\nFreelancing বা Remote Cyber Security Job আগ্রহী ব্যক্তিরা\n\n👉 আগে কোনো Cyber Security অভিজ্ঞতা না থাকলেও সমস্যা নেই \n\n📚 Workshop-এ যা যা শিখবেন\n\nSOC Analyst কী এবং কেন এত ডিমান্ডে\nCyber Attack Lifecycle & Kill Chain\nSIEM কী? (Splunk / ELK / Wazuh Overview)\nLog Monitoring & Event Analysis\nMalware\, Phishing ও Ransomware শনাক্তকরণ\nIncident Response Process (Real Case Example)\nSOC Analyst-এর Daily কাজের বাস্তব চিত্র\nSOC Job-এর জন্য কীভাবে প্রস্তুতি নেবেন\n\n\n🛠️ Hands-on & Practical Exposure\n\nReal Attack Scenario Analysis\nSample Log Investigation\nSOC Dashboard Demo\nAlert Analysis & Decision Making\n\n\n🧭 SOC Analyst Career Roadmap\n\nBeginner → SOC Level 1 Analyst\nপ্রয়োজনীয় Skills & Certifications\nবাংলাদেশ ও International Job Market Overview\nExpected Salary (BD & Remote Job)\nNext Step: Advanced SOC / Blue Team / DFIR\n\n\n🌍 Workshop Mode\n\n✅ 100% Online Live\n🎥 Zoom / StreamYard Live Session\n🗣️ Bangla Explanation (Technical Terms English)\n❓ Live Q&A Session\n\n\n📜 Workshop শেষে যা পাবেন\n\n✔️ Participation Certificate\n✔️ SOC Career Guideline PDF\n✔️ Recorded Session Access\n✔️ Job Preparation Direction\n\n\n🚀 কেন এই Workshop-এ Join করবেন?\n\nIndustry-Oriented Practical Knowledge\nBeginner থেকে Job-Ready\nSIEM ও Log Analysis\nSecurity Alert কিভাবে Analyze করতে হয়\nIncident Detection ও Response প্রক্রিয়া\nReal-Life SOC Use Case ও Attack Scenario\nSOC Analyst ক্যারিয়ার রোডম্যাপ\, স্যালারি ও জব প্রস্তুতি\nReal SOC Skills | Career Guidance\nSOC Analyst কী\, কী কাজ করে\nWorld & Bangladesh Job Market Idea\n\n\n❓ Frequently Asked Questions (FAQ)\nQ: আমি Non-IT Background থেকে আসলে কি পারবো?👉 হ্যাঁ\, এই Workshop Beginner-Friendly করে ডিজাইন করা। \nQ: Live না পারলে Recording পাবো?👉 হ্যাঁ\, Recording Access দেওয়া হবে। \nQ: এটা কি Job Ready Workshop?👉Job-Ready হওয়ার জন্য সম্পূর্ণ Career Direction দেওয়া হবে। \nQ: Workshop শেষে পরবর্তী কী শিখবো?👉 Complete SOC Implementation\, Advanced SOC\, Blue Team\, SIEM ও DFIR Roadmap দেওয়া হবে। \n\n📢 এখনই রেজিস্ট্রেশন করুন\n👉 Cyber Security Industry-তে আপনার প্রথম শক্ত পদক্ষেপ নিন👉 SOC Analyst Career শুরু হোক আজ থেকেই!
URL:https://cyberinstitutebd.com/event/soc-analyst-online-live-workshop/
ATTACH;FMTTYPE=image/png:https://cyberinstitutebd.com/wp-content/uploads/2026/01/Online-Live-Workshop-e1768214881788.png
END:VEVENT
END:VCALENDAR